BEGIN:VCALENDAR
VERSION:2.0
PRODID:-//calendar/web//NONSGML v1.0//EN
BEGIN:VEVENT
UID:2301
DTSTAMP:20230405T150000Z
DTSTART:20230405T150000Z
DTEND:20230405T165900Z
SUMMARY:TRD1020 Türk Dili Mazeret Sınavı
DESCRIPTION:
END:VEVENT
END:VCALENDAR
