BEGIN:VCALENDAR
VERSION:2.0
PRODID:-//calendar/web//NONSGML v1.0//EN
BEGIN:VEVENT
UID:2302
DTSTAMP:20230405T170000Z
DTSTART:20230405T170000Z
DTEND:20230405T185900Z
SUMMARY:ATA1020 Atatürk İlkeleri ve İnkılap Tarihi Mazeret Sınavı
DESCRIPTION:
END:VEVENT
END:VCALENDAR
