BEGIN:VCALENDAR
VERSION:2.0
PRODID:-//calendar/web//NONSGML v1.0//EN
BEGIN:VEVENT
UID:2306
DTSTAMP:20230219T210000Z
DTSTART:20230219T210000Z
DTEND:20230220T205900Z
SUMMARY:Çift Anadal ve Yandal Programları Öğrencileri İçin Başarısızlık Nedeniyle Kayıtların Silinmesi İçin Son Gün
DESCRIPTION:
END:VEVENT
END:VCALENDAR
