BEGIN:VCALENDAR
VERSION:2.0
PRODID:-//calendar/web//NONSGML v1.0//EN
BEGIN:VEVENT
UID:2308
DTSTAMP:20230402T210000Z
DTSTART:20230402T210000Z
DTEND:20230407T205900Z
SUMMARY:44.Madde Kapsamında Güz Dönemi I ve II Mazeret Sınavı
DESCRIPTION:
END:VEVENT
END:VCALENDAR
