BEGIN:VCALENDAR
VERSION:2.0
PRODID:-//calendar/web//NONSGML v1.0//EN
BEGIN:VEVENT
UID:2310
DTSTAMP:20230404T210000Z
DTSTART:20230404T210000Z
DTEND:20230407T205900Z
SUMMARY:Güz Yarıyılı Hukuk Fakültesi- Yarıyıllık- Üç Ders Mazeret Sınavı
DESCRIPTION:
END:VEVENT
END:VCALENDAR
