BEGIN:VCALENDAR
VERSION:2.0
PRODID:-//calendar/web//NONSGML v1.0//EN
BEGIN:VEVENT
UID:2312
DTSTAMP:20230730T210000Z
DTSTART:20230730T210000Z
DTEND:20230815T205900Z
SUMMARY:Lisansüstü (Tezli Yüksek Lisans/Tezsiz Yüksek Lisans/Doktora/ Uzaktan Eğitim) Programlara Onay İşlemleri
DESCRIPTION:
END:VEVENT
END:VCALENDAR
