BEGIN:VCALENDAR
VERSION:2.0
PRODID:-//calendar/web//NONSGML v1.0//EN
BEGIN:VEVENT
UID:2313
DTSTAMP:20230820T210000Z
DTSTART:20230820T210000Z
DTEND:20230824T205900Z
SUMMARY:Lisansüstü (Tezli Yüksek Lisans/Tezsiz Yüksek Lisans/Doktora/ Uzaktan Eğitim) Programlar Mesleki Bilgi Değerlendirmesi ve Mülakat
DESCRIPTION:
END:VEVENT
END:VCALENDAR
