BEGIN:VCALENDAR
VERSION:2.0
PRODID:-//calendar/web//NONSGML v1.0//EN
BEGIN:VEVENT
UID:2314
DTSTAMP:20230830T210000Z
DTSTART:20230830T210000Z
DTEND:20230831T205900Z
SUMMARY:Lisansüstü (Tezli Yüksek Lisans/Tezsiz Yüksek Lisans/Doktora/ Uzaktan Eğitim) Programlar Sonuçların İlanı
DESCRIPTION:
END:VEVENT
END:VCALENDAR
