BEGIN:VCALENDAR
VERSION:2.0
PRODID:-//calendar/web//NONSGML v1.0//EN
BEGIN:VEVENT
UID:2315
DTSTAMP:20230831T210000Z
DTSTART:20230831T210000Z
DTEND:20230912T205900Z
SUMMARY:Lisansüstü (Tezli Yüksek Lisans/Tezsiz Yüksek Lisans/Doktora/ Uzaktan Eğitim) Programları Kesin Kayıt
DESCRIPTION:
END:VEVENT
END:VCALENDAR
