BEGIN:VCALENDAR
VERSION:2.0
PRODID:-//calendar/web//NONSGML v1.0//EN
BEGIN:VEVENT
UID:2319
DTSTAMP:20230917T210000Z
DTSTART:20230917T210000Z
DTEND:20230922T205900Z
SUMMARY:Lisansüstü (Tezli Yüksek Lisans/Tezsiz Yüksek Lisans/Doktora/ Uzaktan Eğitim) Programları Yedeklerden Ön Kayıt Dilekçe Alınan Adayların Kesin Kayıtları
DESCRIPTION:
END:VEVENT
END:VCALENDAR
