BEGIN:VCALENDAR
VERSION:2.0
PRODID:-//calendar/web//NONSGML v1.0//EN
BEGIN:VEVENT
UID:2320
DTSTAMP:20230709T210000Z
DTSTART:20230709T210000Z
DTEND:20230811T205900Z
SUMMARY:Tezli-Tezsiz Yüksek Lisans Programları Arası Geçiş Başvuruları
DESCRIPTION:
END:VEVENT
END:VCALENDAR
