BEGIN:VCALENDAR
VERSION:2.0
PRODID:-//calendar/web//NONSGML v1.0//EN
BEGIN:VEVENT
UID:2322
DTSTAMP:20230709T210000Z
DTSTART:20230709T210000Z
DTEND:20230716T205900Z
SUMMARY:Yaz Okulu Ön Kayıt İşlemleri
DESCRIPTION:
END:VEVENT
END:VCALENDAR
