BEGIN:VCALENDAR
VERSION:2.0
PRODID:-//calendar/web//NONSGML v1.0//EN
BEGIN:VEVENT
UID:2324
DTSTAMP:20230718T210000Z
DTSTART:20230718T210000Z
DTEND:20230723T205900Z
SUMMARY:Yaz Okulu Kesin Kayıt İşlemleri
DESCRIPTION:
END:VEVENT
END:VCALENDAR
