BEGIN:VCALENDAR
VERSION:2.0
PRODID:-//calendar/web//NONSGML v1.0//EN
BEGIN:VEVENT
UID:2325
DTSTAMP:20230723T210000Z
DTSTART:20230723T210000Z
DTEND:20230908T205900Z
SUMMARY:Yaz Okulu Dersler
DESCRIPTION:
END:VEVENT
END:VCALENDAR
