BEGIN:VCALENDAR
VERSION:2.0
PRODID:-//calendar/web//NONSGML v1.0//EN
BEGIN:VEVENT
UID:2327
DTSTAMP:20230813T210000Z
DTSTART:20230813T210000Z
DTEND:20230825T205900Z
SUMMARY:Yaz Okulu-Ara Sınav Mazeret  Sınavı Başvurusu
DESCRIPTION:
END:VEVENT
END:VCALENDAR
