BEGIN:VCALENDAR
VERSION:2.0
PRODID:-//calendar/web//NONSGML v1.0//EN
BEGIN:VEVENT
UID:2328
DTSTAMP:20230827T210000Z
DTSTART:20230827T210000Z
DTEND:20230831T205900Z
SUMMARY:Yaz Okulu Ara Sınav Mazeret Sınavı
DESCRIPTION:
END:VEVENT
END:VCALENDAR
