BEGIN:VCALENDAR
VERSION:2.0
PRODID:-//calendar/web//NONSGML v1.0//EN
BEGIN:VEVENT
UID:2329
DTSTAMP:20230908T210000Z
DTSTART:20230908T210000Z
DTEND:20230913T205900Z
SUMMARY:Yaz Okulu Yarıyıl Sonu Sınavı --Tarihleri
DESCRIPTION:
END:VEVENT
END:VCALENDAR
