BEGIN:VCALENDAR
VERSION:2.0
PRODID:-//calendar/web//NONSGML v1.0//EN
BEGIN:VEVENT
UID:2330
DTSTAMP:20230908T210000Z
DTSTART:20230908T210000Z
DTEND:20230920T205900Z
SUMMARY:YazOkulu Yarıyıl Sonu  Mazeret Sınavı Başvurusu
DESCRIPTION:
END:VEVENT
END:VCALENDAR
