BEGIN:VCALENDAR
VERSION:2.0
PRODID:-//calendar/web//NONSGML v1.0//EN
BEGIN:VEVENT
UID:2331
DTSTAMP:20230920T210000Z
DTSTART:20230920T210000Z
DTEND:20230922T205900Z
SUMMARY:Yaz Okulu Sonu Mazeret Sınavı Tarihleri
DESCRIPTION:
END:VEVENT
END:VCALENDAR
