BEGIN:VCALENDAR
VERSION:2.0
PRODID:-//calendar/web//NONSGML v1.0//EN
BEGIN:VEVENT
UID:2332
DTSTAMP:20230924T210000Z
DTSTART:20230924T210000Z
DTEND:20230925T205900Z
SUMMARY:Yaz Okulu Yarıyıl Sonrası Tek Ders Sınavı
DESCRIPTION:
END:VEVENT
END:VCALENDAR
