BEGIN:VCALENDAR
VERSION:2.0
PRODID:-//calendar/web//NONSGML v1.0//EN
BEGIN:VEVENT
UID:2337
DTSTAMP:20230807T210000Z
DTSTART:20230807T210000Z
DTEND:20230811T205900Z
SUMMARY:Çift Anadal / Yandal Programları Başvuruları
DESCRIPTION:
END:VEVENT
END:VCALENDAR
