BEGIN:VCALENDAR
VERSION:2.0
PRODID:-//calendar/web//NONSGML v1.0//EN
BEGIN:VEVENT
UID:2338
DTSTAMP:20230815T210000Z
DTSTART:20230815T210000Z
DTEND:20230816T205900Z
SUMMARY:Çift Anadal / Yandal Programları Başvuruları için Özel Yetenek Sınavları
DESCRIPTION:
END:VEVENT
END:VCALENDAR
