BEGIN:VCALENDAR
VERSION:2.0
PRODID:-//calendar/web//NONSGML v1.0//EN
BEGIN:VEVENT
UID:2340
DTSTAMP:20230822T210000Z
DTSTART:20230822T210000Z
DTEND:20230823T205900Z
SUMMARY:Çift Anadal / Yandal Programları Başvuruları için Yabancı Dil Sınav Sonuçlarının İlanı
DESCRIPTION:
END:VEVENT
END:VCALENDAR
