BEGIN:VCALENDAR
VERSION:2.0
PRODID:-//calendar/web//NONSGML v1.0//EN
BEGIN:VEVENT
UID:2343
DTSTAMP:20230823T210000Z
DTSTART:20230823T210000Z
DTEND:20230824T205900Z
SUMMARY:Çift Anadal ve Yandal Yabancı Dil Sınav Sonuçlarına İtiraz Süresi
DESCRIPTION:
END:VEVENT
END:VCALENDAR
