BEGIN:VCALENDAR
VERSION:2.0
PRODID:-//calendar/web//NONSGML v1.0//EN
BEGIN:VEVENT
UID:2344
DTSTAMP:20230824T210000Z
DTSTART:20230824T210000Z
DTEND:20230901T205900Z
SUMMARY:Çift Anadal ve Yandal Sonuçlarını Değerlendirme
DESCRIPTION:
END:VEVENT
END:VCALENDAR
