BEGIN:VCALENDAR
VERSION:2.0
PRODID:-//calendar/web//NONSGML v1.0//EN
BEGIN:VEVENT
UID:2346
DTSTAMP:20230905T210000Z
DTSTART:20230905T210000Z
DTEND:20230906T205900Z
SUMMARY:Çift Anadal ve Yandal Değerlendirme Sonuçlarına İtiraz Süresi
DESCRIPTION:
END:VEVENT
END:VCALENDAR
