BEGIN:VCALENDAR
VERSION:2.0
PRODID:-//calendar/web//NONSGML v1.0//EN
BEGIN:VEVENT
UID:2347
DTSTAMP:20230907T210000Z
DTSTART:20230907T210000Z
DTEND:20230912T205900Z
SUMMARY:Çift Anadal / Yandal Programları Asil Kayıtları
DESCRIPTION:
END:VEVENT
END:VCALENDAR
