BEGIN:VCALENDAR
VERSION:2.0
PRODID:-//calendar/web//NONSGML v1.0//EN
BEGIN:VEVENT
UID:2348
DTSTAMP:20230912T210000Z
DTSTART:20230912T210000Z
DTEND:20230913T205900Z
SUMMARY:Çift Anadal / Yandal Programları Yedek Kontenjan İlanı
DESCRIPTION:
END:VEVENT
END:VCALENDAR
