BEGIN:VCALENDAR
VERSION:2.0
PRODID:-//calendar/web//NONSGML v1.0//EN
BEGIN:VEVENT
UID:2349
DTSTAMP:20230913T210000Z
DTSTART:20230913T210000Z
DTEND:20230915T205900Z
SUMMARY:Çift Anadal / Yandal Programları Yedek Kayıtları
DESCRIPTION:
END:VEVENT
END:VCALENDAR
