BEGIN:VCALENDAR
VERSION:2.0
PRODID:-//calendar/web//NONSGML v1.0//EN
BEGIN:VEVENT
UID:2350
DTSTAMP:20230821T210000Z
DTSTART:20230821T210000Z
DTEND:20230824T205900Z
SUMMARY:Güz Yarıyılı Önlisans ve Lisans Kurum İçi ve Kurumlararası Yatay Geçiş Başvuruları
DESCRIPTION:
END:VEVENT
END:VCALENDAR
