BEGIN:VCALENDAR
VERSION:2.0
PRODID:-//calendar/web//NONSGML v1.0//EN
BEGIN:VEVENT
UID:2353
DTSTAMP:20230828T210000Z
DTSTART:20230828T210000Z
DTEND:20230829T205900Z
SUMMARY:Güz Yarıyılı Önlisans ve Lisans Kurum İçi ve Kurumlararası Yatay Geçiş Başvuruları için Özel Yetenek Sınavı
DESCRIPTION:
END:VEVENT
END:VCALENDAR
