BEGIN:VCALENDAR
VERSION:2.0
PRODID:-//calendar/web//NONSGML v1.0//EN
BEGIN:VEVENT
UID:2356
DTSTAMP:20230831T210000Z
DTSTART:20230831T210000Z
DTEND:20230901T205900Z
SUMMARY:Güz Yarıyılı Önlisans ve Lisans Kurum İçi ve Kurumlararası Yatay Geçiş Başvuruları için Özel Yetenek Sınav Sonuçlarına İtiraz Süresi
DESCRIPTION:
END:VEVENT
END:VCALENDAR
