BEGIN:VCALENDAR
VERSION:2.0
PRODID:-//calendar/web//NONSGML v1.0//EN
BEGIN:VEVENT
UID:2358
DTSTAMP:20230911T210000Z
DTSTART:20230911T210000Z
DTEND:20230912T205900Z
SUMMARY:Güz Yarıyılı Önlisans ve Lisans Kurum İçi ve Kurumlararası Yatay Geçiş Sonuçlarının Rektörlüğe Gönderilmesi için Son Gün
DESCRIPTION:
END:VEVENT
END:VCALENDAR
