BEGIN:VCALENDAR
VERSION:2.0
PRODID:-//calendar/web//NONSGML v1.0//EN
BEGIN:VEVENT
UID:2359
DTSTAMP:20230913T210000Z
DTSTART:20230913T210000Z
DTEND:20230914T205900Z
SUMMARY:Güz Yarıyılı Önlisans ve Lisans Kurum İçi ve Kurumlararası Yatay Geçiş Sonuçlarının İlanı
DESCRIPTION:
END:VEVENT
END:VCALENDAR
