BEGIN:VCALENDAR
VERSION:2.0
PRODID:-//calendar/web//NONSGML v1.0//EN
BEGIN:VEVENT
UID:2360
DTSTAMP:20230917T210000Z
DTSTART:20230917T210000Z
DTEND:20230920T205900Z
SUMMARY:Güz Yarıyılı Önlisans ve Lisans Kurum İçi ve Kurumlararası Yatay Geçiş Asil Kayıtlar
DESCRIPTION:
END:VEVENT
END:VCALENDAR
