BEGIN:VCALENDAR
VERSION:2.0
PRODID:-//calendar/web//NONSGML v1.0//EN
BEGIN:VEVENT
UID:2363
DTSTAMP:20230925T210000Z
DTSTART:20230925T210000Z
DTEND:20230926T205900Z
SUMMARY:Güz Yarıyılı Önlisans ve Lisans Kurum İçi ve Kurumlararası Yatay Geçiş Yedekten Kesin Kayıt Kazananların Kayıt İşlemlerinin Yapılması
DESCRIPTION:
END:VEVENT
END:VCALENDAR
