BEGIN:VCALENDAR
VERSION:2.0
PRODID:-//calendar/web//NONSGML v1.0//EN
BEGIN:VEVENT
UID:2364
DTSTAMP:20230731T210000Z
DTSTART:20230731T210000Z
DTEND:20230815T205900Z
SUMMARY:Merkezi Yatay Geçiş Başvurular
DESCRIPTION:
END:VEVENT
END:VCALENDAR
