BEGIN:VCALENDAR
VERSION:2.0
PRODID:-//calendar/web//NONSGML v1.0//EN
BEGIN:VEVENT
UID:2365
DTSTAMP:20230817T210000Z
DTSTART:20230817T210000Z
DTEND:20230818T205900Z
SUMMARY:Merkezi Yatay Geçiş Yabancı Dil Sınavı
DESCRIPTION:
END:VEVENT
END:VCALENDAR
