BEGIN:VCALENDAR
VERSION:2.0
PRODID:-//calendar/web//NONSGML v1.0//EN
BEGIN:VEVENT
UID:2366
DTSTAMP:20230822T210000Z
DTSTART:20230822T210000Z
DTEND:20230823T205900Z
SUMMARY:Merkezi Yatay Geçiş Yabancı Dil Sınavı Sonuçları İlanı
DESCRIPTION:
END:VEVENT
END:VCALENDAR
