BEGIN:VCALENDAR
VERSION:2.0
PRODID:-//calendar/web//NONSGML v1.0//EN
BEGIN:VEVENT
UID:2369
DTSTAMP:20230904T210000Z
DTSTART:20230904T210000Z
DTEND:20230905T205900Z
SUMMARY:Merkezi Yatay Geçiş Sonuçların Rektörlüğe Gönderilmesi İçin Son Gün
DESCRIPTION:
END:VEVENT
END:VCALENDAR
