BEGIN:VCALENDAR
VERSION:2.0
PRODID:-//calendar/web//NONSGML v1.0//EN
BEGIN:VEVENT
UID:2372
DTSTAMP:20230708T110000Z
DTSTART:20230708T110000Z
DTEND:20230708T205900Z
SUMMARY:MÜYÖS Sınavı
DESCRIPTION:
END:VEVENT
END:VCALENDAR
