BEGIN:VCALENDAR
VERSION:2.0
PRODID:-//calendar/web//NONSGML v1.0//EN
BEGIN:VEVENT
UID:2373
DTSTAMP:20230423T210000Z
DTSTART:20230423T210000Z
DTEND:20230602T205900Z
SUMMARY:MÜYÖS Başvuru İşlemleri
DESCRIPTION:
END:VEVENT
END:VCALENDAR
