BEGIN:VCALENDAR
VERSION:2.0
PRODID:-//calendar/web//NONSGML v1.0//EN
BEGIN:VEVENT
UID:2374
DTSTAMP:20230721T130000Z
DTSTART:20230721T130000Z
DTEND:20230721T205900Z
SUMMARY:MÜYÖS Sonuçların İlanı
DESCRIPTION:
END:VEVENT
END:VCALENDAR
