BEGIN:VCALENDAR
VERSION:2.0
PRODID:-//calendar/web//NONSGML v1.0//EN
BEGIN:VEVENT
UID:2375
DTSTAMP:20230723T210000Z
DTSTART:20230723T210000Z
DTEND:20230726T205900Z
SUMMARY:MÜYÖS Sınav Sonuçlarına İtiraz
DESCRIPTION:
END:VEVENT
END:VCALENDAR
