BEGIN:VCALENDAR
VERSION:2.0
PRODID:-//calendar/web//NONSGML v1.0//EN
BEGIN:VEVENT
UID:2376
DTSTAMP:20230730T210000Z
DTSTART:20230730T210000Z
DTEND:20230803T205900Z
SUMMARY:MÜYÖS Tercih İşlemleri
DESCRIPTION:
END:VEVENT
END:VCALENDAR
