BEGIN:VCALENDAR
VERSION:2.0
PRODID:-//calendar/web//NONSGML v1.0//EN
BEGIN:VEVENT
UID:2377
DTSTAMP:20230806T210000Z
DTSTART:20230806T210000Z
DTEND:20230808T205900Z
SUMMARY:MÜYÖS Özel Yetenek Sınavları
DESCRIPTION:
END:VEVENT
END:VCALENDAR
