BEGIN:VCALENDAR
VERSION:2.0
PRODID:-//calendar/web//NONSGML v1.0//EN
BEGIN:VEVENT
UID:2378
DTSTAMP:20230827T210000Z
DTSTART:20230827T210000Z
DTEND:20230828T205900Z
SUMMARY:MÜYÖS Yerleştirme Sonuçları
DESCRIPTION:
END:VEVENT
END:VCALENDAR
