BEGIN:VCALENDAR
VERSION:2.0
PRODID:-//calendar/web//NONSGML v1.0//EN
BEGIN:VEVENT
UID:2381
DTSTAMP:20230907T210000Z
DTSTART:20230907T210000Z
DTEND:20230911T205900Z
SUMMARY:MÜYÖS Ek Yerleştirme Tercih İşlemleri
DESCRIPTION:
END:VEVENT
END:VCALENDAR
