BEGIN:VCALENDAR
VERSION:2.0
PRODID:-//calendar/web//NONSGML v1.0//EN
BEGIN:VEVENT
UID:2382
DTSTAMP:20230912T210000Z
DTSTART:20230912T210000Z
DTEND:20230914T205900Z
SUMMARY:MÜYÖS Ek Yerleştirme Özel Yetenek Sınavları
DESCRIPTION:
END:VEVENT
END:VCALENDAR
