BEGIN:VCALENDAR
VERSION:2.0
PRODID:-//calendar/web//NONSGML v1.0//EN
BEGIN:VEVENT
UID:2383
DTSTAMP:20230917T210000Z
DTSTART:20230917T210000Z
DTEND:20230918T205900Z
SUMMARY:MÜYÖS Ek Yerleştirme Sonuçları
DESCRIPTION:
END:VEVENT
END:VCALENDAR
